BEGIN:VCALENDAR
VERSION:2.0
PRODID:-//Citizens for a New Louisiana - ECPv6.15.20//NONSGML v1.0//EN
CALSCALE:GREGORIAN
METHOD:PUBLISH
X-ORIGINAL-URL:https://www.newlouisiana.org
X-WR-CALDESC:Events for Citizens for a New Louisiana
REFRESH-INTERVAL;VALUE=DURATION:PT1H
X-Robots-Tag:noindex
X-PUBLISHED-TTL:PT1H
BEGIN:VTIMEZONE
TZID:America/Chicago
BEGIN:DAYLIGHT
TZOFFSETFROM:-0600
TZOFFSETTO:-0500
TZNAME:CDT
DTSTART:20230312T080000
END:DAYLIGHT
BEGIN:STANDARD
TZOFFSETFROM:-0500
TZOFFSETTO:-0600
TZNAME:CST
DTSTART:20231105T070000
END:STANDARD
BEGIN:DAYLIGHT
TZOFFSETFROM:-0600
TZOFFSETTO:-0500
TZNAME:CDT
DTSTART:20240310T080000
END:DAYLIGHT
BEGIN:STANDARD
TZOFFSETFROM:-0500
TZOFFSETTO:-0600
TZNAME:CST
DTSTART:20241103T070000
END:STANDARD
BEGIN:DAYLIGHT
TZOFFSETFROM:-0600
TZOFFSETTO:-0500
TZNAME:CDT
DTSTART:20250309T080000
END:DAYLIGHT
BEGIN:STANDARD
TZOFFSETFROM:-0500
TZOFFSETTO:-0600
TZNAME:CST
DTSTART:20251102T070000
END:STANDARD
END:VTIMEZONE
BEGIN:VEVENT
DTSTART;TZID=America/Chicago:20240219T150000
DTEND;TZID=America/Chicago:20240219T183000
DTSTAMP:20260423T061317
CREATED:20240216T140918Z
LAST-MODIFIED:20240216T162414Z
UID:8698-1708354800-1708367400@www.newlouisiana.org
SUMMARY:Appreciation Reception
DESCRIPTION:Please join us for a floating reception honoring our members and members of the public who have allied in our efforts to build a New Louisiana.
URL:https://www.newlouisiana.org/event/appreciation-reception/
LOCATION:Roumain Building\, Baton Rouge\, 343 N 3rd St. Suite 301\, Baton Rouge\, LA\, 70801\, United States
CATEGORIES:Baton Rouge
ATTACH;FMTTYPE=image/png:https://www.newlouisiana.org/wp-content/uploads/2024/02/E628F252-F6A1-431A-8263-36924B3F18DD.png
ORGANIZER;CN="Baton Rouge Office":MAILTO:info@newlouisiana.org
END:VEVENT
BEGIN:VEVENT
DTSTART;TZID=America/Chicago:20240228T120000
DTEND;TZID=America/Chicago:20240228T130000
DTSTAMP:20260423T061317
CREATED:20240221T203628Z
LAST-MODIFIED:20240221T203628Z
UID:8746-1709121600-1709125200@www.newlouisiana.org
SUMMARY:Baton Rouge Secret Lunch
DESCRIPTION:There is still a lot of confusion out there about our election system. Join us in Baton Rouge as Michael Lunsford\, Executive Director of Citizens For a New Louisiana and Louisiana Voting Systems Commissioner\, gives us a rundown on election integrity! He will also tell us a little bit about our new partnership with the Election Integrity Network. Jill Hines\, Co-Director of Health Freedom Louisiana\, will be giving us an update on ongoing cases MO v Biden and Hines v Stamos. You don’t wanna miss this one!
URL:https://www.newlouisiana.org/event/baton-rouge-secret-lunch-5/
LOCATION:Roumain Building\, Baton Rouge\, 343 N 3rd St. Suite 301\, Baton Rouge\, LA\, 70801\, United States
CATEGORIES:Baton Rouge,Secret Lunch
ATTACH;FMTTYPE=image/png:https://www.newlouisiana.org/wp-content/uploads/2024/02/4DED2FAF-EBAF-4047-8DFE-7283ADF70AD9.png
ORGANIZER;CN="Baton Rouge Office":MAILTO:info@newlouisiana.org
END:VEVENT
END:VCALENDAR